BEGIN:VCALENDAR
VERSION:2.0
PRODID:-//eventon.com NONSGML v1.0//EN
CALSCALE:GREGORIAN
METHOD:PUBLISH
BEGIN:VEVENT
UID:69eba6b268a1d
DTSTAMP:20260424T172154Z
DTSTART:20220528T153000Z
DTEND:20220528T220000Z
LOCATION:Porvoon Kuninkaanportti Ratsumestarinkatu 8\,  06500 Porvoo
SUMMARY:Klaukkala - Hyrylä - Kerava - Porvoo Cruising
DESCRIPTION:Lauantaina 28.5.2022 klo 15.30- Aikataulu: 15.30 kokoontuminen 
 Klaukkalan torille 16.30 letka lähtee reitille 17.00-17.15 kokoontuminen H
 yrylän Burger Kingillä\,  josta matka jatkuu kohti Porvoon cruisingia &nb
 sp;\nhttps://www.wheels.fi/events/klaukkala-hyryla-kerava-porvoo-cruising-2
 022/
URL:https://www.wheels.fi/events/klaukkala-hyryla-kerava-porvoo-cruising-2022/
END:VEVENT
END:VCALENDAR