BEGIN:VCALENDAR
VERSION:2.0
PRODID:-//eventon.com NONSGML v1.0//EN
CALSCALE:GREGORIAN
METHOD:PUBLISH
BEGIN:VEVENT
UID:69ea9bffd7c1f
DTSTAMP:20260423T222359Z
DTSTART:20220630T180000Z
DTEND:20220630T235000Z
LOCATION:Hyvinkään kauppatori Kauppatori 1\,  05800 Hyvinkää
SUMMARY:Mobilistit Hyvinkään kauppatorilla
DESCRIPTION:Hyvinkään Mobilistit järjestää torikokoontumisia kaikille 
 vanhoista ajoneuvoista kiinnostuneille torstaisin klo 18-20. Kokoontumispai
 kkana on Hyvinkään kauppatori. Kokoontumiset alkavat 21.4. ja viimeisen k
 erran torilla kohdataan 29.9.2022.\nhttps://www.wheels.fi/events/mobilistit
 -hyvinkaan-kauppatorilla-2022/var/ri-6.l-L1
URL:https://www.wheels.fi/events/mobilistit-hyvinkaan-kauppatorilla-2022/var/ri-6.l-L1
END:VEVENT
END:VCALENDAR