BEGIN:VCALENDAR
VERSION:2.0
PRODID:-//eventon.com NONSGML v1.0//EN
CALSCALE:GREGORIAN
METHOD:PUBLISH
BEGIN:VEVENT
UID:69ea2cb9231a8
DTSTAMP:20260423T142913Z
DTSTART:20220805T190000Z
DTEND:20220805T230000Z
LOCATION:Toijalan tori Kirkkotori 6\,  37800 Akaa
SUMMARY:Akaa Cruising Toijala
DESCRIPTION:Cruising Toijalassa joka kuukauden ensimmäinen perjantai klo. 
 19-23. Torilla tavataan !\nhttps://www.wheels.fi/events/akaa-cruising-toija
 la-8-2022/
URL:https://www.wheels.fi/events/akaa-cruising-toijala-8-2022/
END:VEVENT
END:VCALENDAR