BEGIN:VCALENDAR
VERSION:2.0
PRODID:-//eventon.com NONSGML v1.0//EN
CALSCALE:GREGORIAN
METHOD:PUBLISH
BEGIN:VEVENT
UID:69e7486b95a86
DTSTAMP:20260421T095035Z
DTSTART:20220812
DTEND:20220813
LOCATION:Ruovesi Camping &amp; Adventures Haapasaarentie 5\,  34600 Ruovesi
SUMMARY:Buick Meet 2022
DESCRIPTION:Buick Meet 2022 Buick Meet 2022 järjestetään 12. &#8211; 14.
 8. Ruoveden upeissa järvimaisemissa\,  jonne pääsee ajamaan 60-luvun leg
 endaarista Suomen Route 66:iä pitkin. Tie on nykyään todella hyvässä k
 unnossa\,  joten suosittelemme käyttämään tätä reittiä. Tapahtuman m
 usiikki on jo vahvistunut ja ammattiartisteista voi lukea Buick Meet 2022 
 Bands &#8211; osiosta. Majoitushinnat löytyvät Majoitus / Accommodation
  &#8211;[..]\nhttps://www.wheels.fi/events/buick-meet-2022/
URL:https://www.wheels.fi/events/buick-meet-2022/
END:VEVENT
END:VCALENDAR