BEGIN:VCALENDAR
VERSION:2.0
PRODID:-//eventon.com NONSGML v1.0//EN
CALSCALE:GREGORIAN
METHOD:PUBLISH
BEGIN:VEVENT
UID:69ecf8547ea39
DTSTAMP:20260425T172228Z
DTSTART:20220501T100000Z
DTEND:20220501T150000Z
LOCATION:Mobilia auto- ja tieliikennemuseo Kustaa Kolmannen tie 75\,  36270 Kangasala\,  Suomi
SUMMARY:Tampereen mobilistien vappuajelu
DESCRIPTION:Vappuajelu 1.5.2022 Kokoontuminen Hämeenpuistoon Satakunnankad
 un ja Puutarhakadun väliselle kävelytielle alkaen klo 10. Pysäköinti hi
 ekkaisen kävelytien reunoille. Yhteislähtö kello 11.15 kohti Kangasalaa.
  Kierretään pikku lenkki Tampereella. Vappuajelun brunssi Mobilian ravint
 olassa klo 12. Brunssin jälkeen omaan tahtiin Vehoniemelle. Ennakkoilmoitt
 autuminen 22.4. mennessä. Lisätiedot: https://www.tammob.com/restaurantap
 aivat/ Järjestäjänä Tampereen mobilistit\nhttps://www.wheels.fi/events/
 tampereen-mobilistien-vappuajelu-2022/
URL:https://www.wheels.fi/events/tampereen-mobilistien-vappuajelu-2022/
END:VEVENT
END:VCALENDAR