BEGIN:VCALENDAR
VERSION:2.0
PRODID:-//eventon.com NONSGML v1.0//EN
CALSCALE:GREGORIAN
METHOD:PUBLISH
BEGIN:VEVENT
UID:69e99568f1e00
DTSTAMP:20260423T034336Z
DTSTART:20220729T180000Z
DTEND:20220730T160000Z
LOCATION:Emolahti Camping Pellikantie 430\,  86800 Pyhäjärvi
SUMMARY:Emolahti Meeting
DESCRIPTION:Emolahti Meeting palaa taas! Majoitukset voit varata hyvissä a
 join soittamalla numeroomme tai lähettämällä meille s-postia. Lisätiet
 oa löytyy tapahtuman FB-sivuilta: https://www.facebook.com/emolahtimeeting
 / #EmolahtiMeeting2022 #EmolahtiCamping &nbsp;\nhttps://www.wheels.fi/event
 s/emolahti-meeting-2022/
URL:https://www.wheels.fi/events/emolahti-meeting-2022/
END:VEVENT
END:VCALENDAR