BEGIN:VCALENDAR
VERSION:2.0
PRODID:-//eventon.com NONSGML v1.0//EN
CALSCALE:GREGORIAN
METHOD:PUBLISH
BEGIN:VEVENT
UID:69e9f025bb678
DTSTAMP:20260423T101045Z
DTSTART:20221008T180000Z
DTEND:20221008T210000Z
LOCATION:Kehäkessa (Neste Kehä III) Niittytie 2\,  01510 Vantaa
SUMMARY:Kehäkessa Cruising
DESCRIPTION:Vantaan Kehä Kessalla jatkossa Kehä Kessa Cruising. Joka kuuk
 auden toinen lauantai klo 18 alkaen. Cruisingista sovittu Kehä Kessan omis
 tajan kanssa Osoite siis Niittytie 2\,  Tikkurila.\nhttps://www.wheels.fi/e
 vents/kehakessa-cruising-10-2021/
URL:https://www.wheels.fi/events/kehakessa-cruising-10-2021/
END:VEVENT
END:VCALENDAR