BEGIN:VCALENDAR
VERSION:2.0
PRODID:-//eventon.com NONSGML v1.0//EN
CALSCALE:GREGORIAN
METHOD:PUBLISH
BEGIN:VEVENT
UID:69e74a03110a8
DTSTAMP:20260421T095723Z
DTSTART:20220722T180000Z
DTEND:20220722T220000Z
LOCATION:
SUMMARY:Tuusulan juhla-ajot
DESCRIPTION:TUUSULA 379 VUOTTA JUHLA-AJO PERJANTAINA 22.7.2022 KLO 18-22. T
 ervetuloa kaikki HARRASTE-AUTOT TUUSULASTA juhla-ajoon! Kokoonnumme Ilmator
 juntamuseolle\,  alkaen klo 16.00. Aja suoraan portista museon pihapiiriin.
  Museossa avoimet ovet koko päivän! Startti klo 18.00- Kierrämme Tuusula
 n. Nautimme kauniista Tuusulasta pyörien päällä. Tuusulahan on tunnettu
  autopitäjä\,  ajossa mukana myös HYRYLÄN HÄVITTÄJIÄ! Autot ovat suu
 ri[..]\nhttps://www.wheels.fi/events/tuusula-juhla-ajot-2022/
URL:https://www.wheels.fi/events/tuusula-juhla-ajot-2022/
END:VEVENT
END:VCALENDAR