BEGIN:VCALENDAR
VERSION:2.0
PRODID:-//eventon.com NONSGML v1.0//EN
CALSCALE:GREGORIAN
METHOD:PUBLISH
BEGIN:VEVENT
UID:69ea34a3c7bc9
DTSTAMP:20260423T150259Z
DTSTART:20210731T180000Z
DTEND:20210731T230000Z
LOCATION:Porvoon Kuninkaanportti Ratsumestarinkatu 8\,  06500 Porvoo
SUMMARY:Porvoo Cruising
DESCRIPTION:Porvoon jenkkiauto cruising järjestetään jokaisen kuukauden 
 viimeisenä lauantaina. Tapahtumapaikkana on Kuninkaanportin kauppa-alueen 
 parkkipaikka Ruiskumestarinkadulla. Kuninkaanporttiin on helppo saapua kaua
 mpaakin\,  sillä alue sijaitsee kätevästi Porvoon moottoritien (E18-tie)
  ja Porvoo-Mäntsälä -tien (kantatie 55) risteyksessä. Lue lisää tapah
 tumasta: Porvoon Cruising 30.5.2020 ja kuvaraportti Porvoon cruising-illast
 a 27.8.2018. Tervetuloa mukaan!\nhttps://www.wheels.fi/events/porvoo-cruisi
 ng-7-2021/
URL:https://www.wheels.fi/events/porvoo-cruising-7-2021/
END:VEVENT
END:VCALENDAR