BEGIN:VCALENDAR
VERSION:2.0
PRODID:-//eventon.com NONSGML v1.0//EN
CALSCALE:GREGORIAN
METHOD:PUBLISH
BEGIN:VEVENT
UID:69e7b5643d8c6
DTSTAMP:20260421T173532Z
DTSTART:20200523T100000Z
DTEND:20200523T200000Z
LOCATION:Kiikalan lentokeskus OinasjÃ¤rventie 469\,  Kiikala\,  Salo
SUMMARY:VW-Open 2020
DESCRIPTION:* TAPAHTUMA ON PERUTTU * Perinteinen VW-Open jÃ¤rjestetÃ¤Ã¤n jÃ
 ¤lleen Kiikalassa! VW-Open on kansainvÃ¤linen yksipÃ¤ivÃ¤inen harrasteautot
 apahtuma\,  jota on jÃ¤rjestetty jo vuodesta 1997 lÃ¤htien. Tapahtuma jÃ¤rj
 estetÃ¤Ã¤n Kiikalan lentokeskuksessa joka toukokuun toiseksi viimeisen viik
 onlopun lauantaina. VW-Openissa voit osallistua autollasi tai moottoripyÃ¶r
 Ã¤llÃ¤si merkistÃ¤ riippumatta mm. 1/4 mailin kiihdytysajo-harjoitteluun ja
  paikalla onkin yleensÃ¤ sankoin joukoin[..]\nhttps://www.wheels.fi/events/
 vw-open-2020/
URL:https://www.wheels.fi/events/vw-open-2020/
END:VEVENT
END:VCALENDAR