BEGIN:VCALENDAR
VERSION:2.0
PRODID:-//eventon.com NONSGML v1.0//EN
CALSCALE:GREGORIAN
METHOD:PUBLISH
BEGIN:VEVENT
UID:69e69a132a788
DTSTAMP:20260420T212643Z
DTSTART:20260925T140000Z
DTEND:20260925T180000Z
LOCATION:Juustoportti Mäntsälä Pohjoinen Pikatie 8\,  04600 Mäntsälä
SUMMARY:Mäntsälän Pörinät
DESCRIPTION:Mäntsälä mielessä aina kuukauden viimeisenä perjantaina! M
 äntsälän Pörinät on julkinen harrasteajoneuvojen kokoontumistapahtuma\
 ,  joka järjestetään Mäntsälän Juustoportin parkkipaikalla. Mahdollis
 uuksien mukaan kokoontumisien yhteydessä järjestetään muutakin toiminta
 a kuten esim. peräkonttikirppiksiä. Tervetuloa mukaan esittelemään se m
 aailman hienoin auto tai upein moottoripyörä! Tai tule vaikka koko perhee
 n voimin ihastelemaan moottoriajoneuvojen kauneutta\,  tapaamaan tuttuja ja
  tutustumaan[..]\nhttps://www.wheels.fi/events/mantsalan-porinat/var/ri-5.l
 -L1
URL:https://www.wheels.fi/events/mantsalan-porinat/var/ri-5.l-L1
END:VEVENT
END:VCALENDAR