BEGIN:VCALENDAR
VERSION:2.0
PRODID:-//eventon.com NONSGML v1.0//EN
CALSCALE:GREGORIAN
METHOD:PUBLISH
BEGIN:VEVENT
UID:69e88ba4210d7
DTSTAMP:20260422T084940Z
DTSTART:20260214T150000Z
DTEND:20260214T180000Z
LOCATION:
SUMMARY:ACDC Laskiaiscruising Koskenkylä
DESCRIPTION:Lauantaina 14.12. klo 15-18 Loviisantie 132B\,  Koskenkylä Kos
 kenkylän vanha ala-aste Tuleha paikalle &#8211; ihan millä menopelillä h
 aluat. Tervetuloa!\nhttps://www.wheels.fi/events/acdc-laskiaiscruising-kosk
 enkyla-2026/
URL:https://www.wheels.fi/events/acdc-laskiaiscruising-koskenkyla-2026/
END:VEVENT
END:VCALENDAR