BEGIN:VCALENDAR
VERSION:2.0
PRODID:-//eventon.com NONSGML v1.0//EN
CALSCALE:GREGORIAN
METHOD:PUBLISH
BEGIN:VEVENT
UID:69e8a07487ea6
DTSTAMP:20260422T101828Z
DTSTART:20260307T100000Z
DTEND:20260308T160000Z
LOCATION:Karhuhalli Urheilutie 9\,  28500 Pori
SUMMARY:Motorshow Pori
DESCRIPTION:Suosittu MotorShow Pori taas maaliskuussa 7.-8.3.2026 Porin Kar
 huhallissa.\nhttps://www.wheels.fi/events/motorshow-2026-pori/
URL:https://www.wheels.fi/events/motorshow-2026-pori/
END:VEVENT
END:VCALENDAR