BEGIN:VCALENDAR
VERSION:2.0
PRODID:-//eventon.com NONSGML v1.0//EN
CALSCALE:GREGORIAN
METHOD:PUBLISH
BEGIN:VEVENT
UID:69ea3a2f720c3
DTSTAMP:20260423T152639Z
DTSTART:20260130T070000Z
DTEND:20260201T140000Z
LOCATION:Helsingin messukeskus Messuaukio 1\,  00520 Helsinki
SUMMARY:MP26 Moottoripyörämessut Helsinki
DESCRIPTION:MP26 Moottoripyörämessut MP-messuilta löydät motoristin kok
 o maailman: uudet moottoripyörät\,  mopot ja mönkijät\,  ajovarusteet j
 a tarvikkeet\,  rakennetut pyörät sekä inspiraatiota vuoden uusiin reitt
 eihin. Mitä kaikkea on luvassa 👇 ⚡MP 26 UUTUUS! Simulaatiomaailma tuo
  elämyksellisen ajokokemuksen MP-messuille. Alue tarjoaa kilpailuhenkisen 
 ajokokemuksen kuuden eri simulaattoripyörän avulla. ⚡Alle 18-vuotiaiden
  MP Jonnela kasvaa entisestään. Luvassa[..]\nhttps://www.wheels.fi/events
 /mp26-moottoripyoramessut-helsinki/
URL:https://www.wheels.fi/events/mp26-moottoripyoramessut-helsinki/
END:VEVENT
END:VCALENDAR