BEGIN:VCALENDAR
VERSION:2.0
PRODID:-//eventon.com NONSGML v1.0//EN
CALSCALE:GREGORIAN
METHOD:PUBLISH
BEGIN:VEVENT
UID:69e8ddfd67361
DTSTAMP:20260422T144101Z
DTSTART:20260117T080000Z
DTEND:20260117T150000Z
LOCATION:Seinäjoen ravikeskus  Ravitie 9\,  Seinäjoki\,  Finland
SUMMARY:Botnia Swap Meet Seinäjoki
DESCRIPTION:Lauantaina 17.1.2026 klo 8-15 Seinäjoen raviradalla Pohjanmaan
  suurin romutori! Tule ostamaan ja myymään kaikkea vanhoihin autoihin ja 
 moottoripyöriin liittyvää tavaraa. Myyjiä ja ostajia ympäri Suomen. In
 fo arkisin klo 12-18 0400 &#8211; 661 999 Järjestäjä: Classic Car Club r
 y\nhttps://www.wheels.fi/events/botnia-swap-meet-seinajo-2026ki/
URL:https://www.wheels.fi/events/botnia-swap-meet-seinajo-2026ki/
END:VEVENT
END:VCALENDAR