BEGIN:VCALENDAR
VERSION:2.0
PRODID:-//eventon.com NONSGML v1.0//EN
CALSCALE:GREGORIAN
METHOD:PUBLISH
BEGIN:VEVENT
UID:69e88bd041801
DTSTAMP:20260422T085024Z
DTSTART:20250726T170000Z
DTEND:20250726T230000Z
LOCATION:
SUMMARY:Lynx Mountain Burnout Party Nurmijärvi
DESCRIPTION:Lynx Mountain Garage Burnout Party VII Lauantaina 26.7.2025. Os
 oite: Ilveskaari 11\,  Nurmijärvi. Tervetuloa jenkkitallille klo 17 alkaen
 . Vapaa pääsy\,  K-18\nhttps://www.wheels.fi/events/lynx-mountain-burnout
 -party-2025/
URL:https://www.wheels.fi/events/lynx-mountain-burnout-party-2025/
END:VEVENT
END:VCALENDAR