BEGIN:VCALENDAR
VERSION:2.0
PRODID:-//eventon.com NONSGML v1.0//EN
CALSCALE:GREGORIAN
METHOD:PUBLISH
BEGIN:VEVENT
UID:69e733ab61f84
DTSTAMP:20260421T082203Z
DTSTART:20250831T120000Z
DTEND:20250831T140000Z
LOCATION:Espoon automuseo  Bodomintie 35\,  02740 Espoo
SUMMARY:Ranskalaiset Espoon automuseolla
DESCRIPTION:Maakohtaiset ajoneuvo- tapahtumat palaavat Espoon Automuseolle.
  Tuo oma harrastepelisi näytille ja tule tapaamaan muita alan harrastajia 
 tai ihastelemaan harrastelijoiden ajoneuvokavalkaadia. Tapahtumat ovat avoi
 mia kaikille harrasteajoneuvoluokille: autot\,  mottoripyörät\,  mopot\, 
  traktorit\,  polkupyörät\,  kuorma-autot\,  skuutit\,  polkuautot. Tapah
 tumapäivät sunnuntaina kello 12-14. Yleisö äänestää tapahtuman voitt
 aja ajoneuvoa. Voittaja palkitaan yhteistyökumppani Impomet Oy:n tuotepake
 tilla. Kello 12-14[..]\nhttps://www.wheels.fi/events/ranskalaiset-espoon-au
 tomuseolla-2025/
URL:https://www.wheels.fi/events/ranskalaiset-espoon-automuseolla-2025/
END:VEVENT
END:VCALENDAR