BEGIN:VCALENDAR
VERSION:2.0
PRODID:-//eventon.com NONSGML v1.0//EN
CALSCALE:GREGORIAN
METHOD:PUBLISH
BEGIN:VEVENT
UID:69e74d63e7b6e
DTSTAMP:20260421T101147Z
DTSTART:20250823T080000Z
DTEND:20250823T150000Z
LOCATION:Mobilia auto- ja tieliikennemuseo Kustaa Kolmannen tie 75\,  36270 Kangasala\,  Suomi
SUMMARY:Syys-Restauranta Kangasala
DESCRIPTION:Kangasalan Syys-RestaurantapÃ¤ivÃ¤ Lauantaina 23.8.2024 klo 8-1
 5 Restauranta Rompetori Kangasalla Mobilian ylÃ¤pihalla osoitteessa Kustaa 
 Kolmannen tie 75\,  Kangasala. SisÃ¤Ã¤npÃ¤Ã¤symaksu 5â‚¬ (kÃ¤teismaksu) (al
 le 10 vuotiaat ilmaiseksi) MyyjÃ¤t sisÃ¤Ã¤n tapahtumapÃ¤ivÃ¤Ã¤ edeltÃ¤vÃ¤nÃ
 ¤ pÃ¤ivÃ¤nÃ¤ kello 18-19 tai tapahtumapÃ¤ivÃ¤nÃ¤ kello 6.00 alkaen. Paikkam
 aksu 30â‚¬.Â  Ei yÃ¶ vartiointia Tiedustelut 0503098823 kello 16-21\nhttps:
 //www.wheels.fi/events/syys-restauranta-kangasala-2025/
URL:https://www.wheels.fi/events/syys-restauranta-kangasala-2025/
END:VEVENT
END:VCALENDAR