BEGIN:VCALENDAR
VERSION:2.0
PRODID:-//eventon.com NONSGML v1.0//EN
CALSCALE:GREGORIAN
METHOD:PUBLISH
BEGIN:VEVENT
UID:69e74c23c6fc7
DTSTAMP:20260421T100627Z
DTSTART:20250809T090000Z
DTEND:20250809T230000Z
LOCATION:
SUMMARY:Hayride Jamboree #5 Puumala
DESCRIPTION:Hayride Jamboree #3 WW II Airfield\,  Pistohiekka\,  Puumala 9.
 8.2025 Vanhan ajan rantakisojen fiilistä hienossa miljöössä. Ohjelma ta
 rkentuu\,  kalusto pre 1969 Ilmoittautumiset: hallberghenrik@hotmail.com Lu
 e vastaavasta kisasta: The Race of Gentleman &#8211; Herrasmiesten historia
 n oppitunti\nhttps://www.wheels.fi/events/hayride-jamboree-2025/
URL:https://www.wheels.fi/events/hayride-jamboree-2025/
END:VEVENT
END:VCALENDAR