BEGIN:VCALENDAR
VERSION:2.0
PRODID:-//eventon.com NONSGML v1.0//EN
CALSCALE:GREGORIAN
METHOD:PUBLISH
BEGIN:VEVENT
UID:69e88dbbc008e
DTSTAMP:20260422T085835Z
DTSTART:20250426T160000Z
DTEND:20250426T235900Z
LOCATION:
SUMMARY:Vetoja Cruising Raisio
DESCRIPTION:Season opener 26.4.2025 klo 16 alkaen Tervetuloa!\nhttps://www.
 wheels.fi/events/vetoja-cruising-04-2025/
URL:https://www.wheels.fi/events/vetoja-cruising-04-2025/
END:VEVENT
END:VCALENDAR