BEGIN:VCALENDAR
VERSION:2.0
PRODID:-//eventon.com NONSGML v1.0//EN
CALSCALE:GREGORIAN
METHOD:PUBLISH
BEGIN:VEVENT
UID:69e7393b9f601
DTSTAMP:20260421T084547Z
DTSTART:20250427T100000Z
DTEND:20250427T140000Z
LOCATION:
SUMMARY:Suuri AutonÃ¤yttely RiihimÃ¤ki
DESCRIPTION:Jo traditioksi muodostunut Suuri AutonÃ¤yttely jÃ¤lleen sunnunt
 aina 27.4. klo 10-14 RiihimÃ¤en vanhalla torilla. Mukana runsaasti uusia au
 tomalleja eri toimittajilta. Mukana myÃ¶s paljon muuta autoiluun liittyvÃ¤Ã
 ¤ asiaa. Musiikkia\,  makkaraa\,  kahvia\,  ilmapalloja yms&#8230; Tervetul
 oa !\nhttps://www.wheels.fi/events/suuri-autonayttely-riihimaki-2025/
URL:https://www.wheels.fi/events/suuri-autonayttely-riihimaki-2025/
END:VEVENT
END:VCALENDAR