BEGIN:VCALENDAR
VERSION:2.0
PRODID:-//eventon.com NONSGML v1.0//EN
CALSCALE:GREGORIAN
METHOD:PUBLISH
BEGIN:VEVENT
UID:69e75510bd82b
DTSTAMP:20260421T104432Z
DTSTART:20250523T170000Z
DTEND:20250523T220000Z
LOCATION:
SUMMARY:Vehkala Cruising & Meeting Vantaa
DESCRIPTION:Vehkala Cruising &amp; Meeting niiden kuukausien perjantaina\, 
  jolloin lÃ¤hiseudulla ei ole muita kokoontumisia. Vehkala Cruisingit vuonn
 a 2025 Perjantaina 23. Toukokuuta Perjantaina 22. Elokuuta ja Perjantaina 2
 4. Lokakuuta Vapaamuotoinen harrasteajoneuvotapahtuma vuosimallista ja valm
 istusmaasta riippumatta. Tapahtumalla ei ole virallista jÃ¤rjestÃ¤jÃ¤Ã¤. LÃ
 ¤nsi-Vantaalla Vehkalan juna-aseman liityntÃ¤pysÃ¤kÃ¶intialueella hyvien ku
 lkuyhteyksien pÃ¤Ã¤ssÃ¤ KehÃ¤ 3 ja HÃ¤meenlinnan vÃ¤ylÃ¤n[..]\nhttps://www.
 wheels.fi/events/vehkala-cruising-5-2025/
URL:https://www.wheels.fi/events/vehkala-cruising-5-2025/
END:VEVENT
END:VCALENDAR