BEGIN:VCALENDAR
VERSION:2.0
PRODID:-//eventon.com NONSGML v1.0//EN
CALSCALE:GREGORIAN
METHOD:PUBLISH
BEGIN:VEVENT
UID:69e7863287cb0
DTSTAMP:20260421T141410Z
DTSTART:20250603T140000Z
DTEND:20250603T170000Z
LOCATION:Biltema Espoo Ruukintie 8\,  02330 Espoo
SUMMARY:Mobiilit kokoontuvat Espoon Biltemalla
DESCRIPTION:VAPAAMUOTOISET KOKOONTUMISET mobiileilla Tiistai-iltaisin kesä
 kuussa Espoon Bilteman parkkipaikalla Ruukintie 8\,  02330 Espoo (huom. alu
 een portti sulkeutuu klo 20.00) Järjestäjä: Suomen Autohistoriallinen se
 ura ry\nhttps://www.wheels.fi/events/mobiilit-kokoontuvat-espoo-2025/
URL:https://www.wheels.fi/events/mobiilit-kokoontuvat-espoo-2025/
END:VEVENT
END:VCALENDAR