BEGIN:VCALENDAR
VERSION:2.0
PRODID:-//eventon.com NONSGML v1.0//EN
CALSCALE:GREGORIAN
METHOD:PUBLISH
BEGIN:VEVENT
UID:69e7342873d3a
DTSTAMP:20260421T082408Z
DTSTART:20250426T070000Z
DTEND:20250426T120000Z
LOCATION:SyÃ¶kerin tupa Karkkilantie 8 03790 VihtijÃ¤rvi
SUMMARY:SyÃ¶kerin Sauhut & Nummituvan Romppeet
DESCRIPTION:Sauhut tulee taas! SyÃ¶kerin sauhut ja Nummituvan rompetori jÃ¤
 rjestetÃ¤Ã¤n la 26.4. klo 10-15. Rompetori Nummituvan pihalla ja kirpputori
  salissa sisÃ¤llÃ¤.Rompetorin varaukset (20.4 mennessÃ¤):Harri Hampori p.04
 05917948Kirpputorin varaukset (20.4 mennessÃ¤):Mervi Kannisto-Kallela p.040
 0998712 SyÃ¶kerin Sauhut SyÃ¶kerin tuvalla samaan aikaan. Osoite Karkkilant
 ie 8\,  VihtijÃ¤rvi.Paikkojen vÃ¤lillÃ¤ non-stop kuljetus. Tervetuloa! LisÃ
 ¤tiedot: https://www.facebook.com/syokerinsauhut SyÃ¶kerin tupa Karkkilanti
 e 8[..]\nhttps://www.wheels.fi/events/syokerin-sauhut-2025/
URL:https://www.wheels.fi/events/syokerin-sauhut-2025/
END:VEVENT
END:VCALENDAR