BEGIN:VCALENDAR
VERSION:2.0
PRODID:-//eventon.com NONSGML v1.0//EN
CALSCALE:GREGORIAN
METHOD:PUBLISH
BEGIN:VEVENT
UID:69e88bd017a7f
DTSTAMP:20260422T085024Z
DTSTART:20250426T120000Z
DTEND:20250426T150000Z
LOCATION:
SUMMARY:TÃ¤lli Cruising Karvia
DESCRIPTION:TÃ„LLI CRUISINGKARVIA 26.04.2025 Harrasteajoneuvojen kokoontumi
 nen 26.04 klo 15.00 alkaen Kantapubi TÃ¤llin piha-alueella osoitteessa KylÃ
 ¤-Karviantie 12\,  Karvia. MyynnissÃ¤ makkaraa\,  kahvia yms. Parhaiten yle
 isÃ¶Ã¤Ã¤niÃ¤ Ã¤Ã¤nestyksessÃ¤ saanut ajoneuvo palkitaan. TÃ¤lli Cruising ja
 tkot ravintolan sisÃ¤tiloissa karaoken merkeissÃ¤. Kaikki harrasteajoneuvot
  tervetulleita. HUOM! Vapaa pÃ¤Ã¤sy! TERVETULOA\nhttps://www.wheels.fi/even
 ts/talli-cruising-karvia-2025/
URL:https://www.wheels.fi/events/talli-cruising-karvia-2025/
END:VEVENT
END:VCALENDAR