BEGIN:VCALENDAR
VERSION:2.0
PRODID:-//eventon.com NONSGML v1.0//EN
CALSCALE:GREGORIAN
METHOD:PUBLISH
BEGIN:VEVENT
UID:69e74d63e7048
DTSTAMP:20260421T101147Z
DTSTART:20250421T070000Z
DTEND:20250421T120000Z
LOCATION:Palotalo Virkkala Kala-Kokkosen tie 10\,  Virkkala
SUMMARY:Takaluukusta Swap Lohja
DESCRIPTION:Huhtikuun suurin ja kaunein Takaluukusta Swap vol 3. järjestet
 ään taas American Car Show&#8217;n jälkeisenä maanantaina 21.4-25 kello
  10-15 jo legendaarisessa osoitteessa Palotalo\,  Kala-Kokkosen tie 10\,  
 08700 Lohja\nhttps://www.wheels.fi/events/takaluukusta-swap-2025-lohja/
URL:https://www.wheels.fi/events/takaluukusta-swap-2025-lohja/
END:VEVENT
END:VCALENDAR