BEGIN:VCALENDAR
VERSION:2.0
PRODID:-//eventon.com NONSGML v1.0//EN
CALSCALE:GREGORIAN
METHOD:PUBLISH
BEGIN:VEVENT
UID:69e7341dc36ab
DTSTAMP:20260421T082357Z
DTSTART:20250809T070000Z
DTEND:20250809T170000Z
LOCATION:
SUMMARY:Möljä Miittinki Uusikaupunki
DESCRIPTION:Leppoisa harrasteajoneuvokokoontuminen merellisissä maisemissa
  Uudenkaupungin kaupunginlahden rannassa. Nähtävillä autoja\,  pyöriä\
 ,  veneitä ja ym. Lauantaina 9.8.2025 klo 10 alkaen Osoite: Suukarintie 6B
 \,  Uusikaupunki Vapaa pääsy!\nhttps://www.wheels.fi/events/molja-miittin
 ki-uusikaupunki-2025/
URL:https://www.wheels.fi/events/molja-miittinki-uusikaupunki-2025/
END:VEVENT
END:VCALENDAR