BEGIN:VCALENDAR
VERSION:2.0
PRODID:-//eventon.com NONSGML v1.0//EN
CALSCALE:GREGORIAN
METHOD:PUBLISH
BEGIN:VEVENT
UID:69e74925562bf
DTSTAMP:20260421T095341Z
DTSTART:20250524T090000Z
DTEND:20250524T150000Z
LOCATION:Sport &amp; Spa Hotel Vesileppis Vokkolantie 79100 Leppävirta
SUMMARY:LadyBug Summer Cruise 2025 Leppävirta
DESCRIPTION:Kesän komeimmat kulkupelit kutsuvat! SmallTown Cruisers ry jä
 rjestää jo seitsemättä kertaa suositun LB Summer Cruisen\,  joka valtaa
  Vesileppiksen piha-alueen lauantaina 24.5.2025. Tapahtuman ohjelmassa:Silm
 äterinä hoidetut harrasteajoneuvot esillä klo 12:00 alkaenAjoneuvojen ki
 lpailuluokat ja palkintokategoriat julkaistaan myöhemminLetka-ajo iltapäi
 vällä\,  mukana toinen toistaan näyttävämpiä kulkupelejä! Cruising-l
 enkki kiertää tuttuun tapaan Leppävirran maisemissa:Vokkolantie – Lepp
 ävirrantie – Savonkatu[..]\nhttps://www.wheels.fi/events/ladybug-summer-
 cruise-2025/
URL:https://www.wheels.fi/events/ladybug-summer-cruise-2025/
END:VEVENT
END:VCALENDAR