BEGIN:VCALENDAR
VERSION:2.0
PRODID:-//eventon.com NONSGML v1.0//EN
CALSCALE:GREGORIAN
METHOD:PUBLISH
BEGIN:VEVENT
UID:69e88d7da9ebb
DTSTAMP:20260422T085733Z
DTSTART:20250624T110000Z
DTEND:20250624T180000Z
LOCATION:
SUMMARY:Vanhojen Ajoneuvojen ilta Mommila
DESCRIPTION:Vanhat museo- ja harrasteajoneuvot tapaavat toisiaan Mommilan K
 yläpuodin maisemissa taas juhannuksen jälkeisenä tiistaina. Seuraa Kylä
 puodin somea ja tätä tapahtumasivua ja saat viimeisimmät tiedot tulevast
 a ohjelmasta ja aikatauluista.Tiedossa on kuitenkin jälleen paljon upeita 
 kulkupelejä\,  leppoista yhdessäoloa ja taatusti hyvää ohjelmaa kauniis
 sa Etelä-Hämeen maalaismaisemissa.\nhttps://www.wheels.fi/events/vanhojen
 -ajoneuvojen-ilta-mommila-2025/
URL:https://www.wheels.fi/events/vanhojen-ajoneuvojen-ilta-mommila-2025/
END:VEVENT
END:VCALENDAR