BEGIN:VCALENDAR
VERSION:2.0
PRODID:-//eventon.com NONSGML v1.0//EN
CALSCALE:GREGORIAN
METHOD:PUBLISH
BEGIN:VEVENT
UID:69e88b10205cc
DTSTAMP:20260422T084712Z
DTSTART:20260508T130000Z
DTEND:20260508T170000Z
LOCATION:Mommilan kyläpuoti Kordelinintie 64\,  12170 Mommila\,  Hietoinen
SUMMARY:Mobilistit Mommilassa Hausjärvi
DESCRIPTION:Tervetuloa nauttimaan nostalgisesta tunnelmasta Mommila-Hietois
 ten maalaismaisemiin uusittua tie 2951 pitkin.MOBILISTIT MOMMILASSA -illat 
 alkavat taas Mommilan Kyläpuodilla toukokuussa 8.5. alkaen\,  joka perjant
 ai-ilta klo 16-20.Laitetaan siis taas autotallien aarteet ajokuntoon ja tuo
 daan ne näytille puodin kauniiseen pihapiiriin. Kaikille museo- ja harrast
 eajoneuvojen kuskeille kahvi+mobilistipulla kolmella eurolla. Se o halpaa s
 e! Kaikki Kyläpuodin museot[..]\nhttps://www.wheels.fi/events/mobilistit-m
 ommilassa-hausjarvi/
URL:https://www.wheels.fi/events/mobilistit-mommilassa-hausjarvi/
END:VEVENT
END:VCALENDAR