BEGIN:VCALENDAR
VERSION:2.0
PRODID:-//eventon.com NONSGML v1.0//EN
CALSCALE:GREGORIAN
METHOD:PUBLISH
BEGIN:VEVENT
UID:69e88b43a504a
DTSTAMP:20260422T084803Z
DTSTART:20250524T080000Z
DTEND:20250524T130000Z
LOCATION:
SUMMARY:Classic Car Parade Helsinki
DESCRIPTION:Lauantai 24.5.2025 klo 11-16Senaatintori\,  Helsinki Tervetuloa
  Helsingin Senaatintorille nauttimaan autojen klassisesta kauneudesta! Clas
 sic Car Parade kokoaa yhteen upean valikoiman historiallisia ajoneuvoja Suo
 mesta ja Ruotsista\,  jotka edustavat autokulttuurin eri aikakausia ja tyyl
 isuuntia. Tule ihastelemaan toinen toistaan upeampia klassikoita ja kuulema
 an näiden ajoneuvojen tarinoita. Näe vintage-autoja\,  muskeliautoja ja m
 uita harvinaisuuksia!Elävää musiikkia\,  rentoa[..]\nhttps://www.wheels.
 fi/events/classic-car-parade-2025-helsinki/
URL:https://www.wheels.fi/events/classic-car-parade-2025-helsinki/
END:VEVENT
END:VCALENDAR