BEGIN:VCALENDAR
VERSION:2.0
PRODID:-//eventon.com NONSGML v1.0//EN
CALSCALE:GREGORIAN
METHOD:PUBLISH
BEGIN:VEVENT
UID:69e8a21ff182a
DTSTAMP:20260422T102535Z
DTSTART:20240907T120000Z
DTEND:20240907T160000Z
LOCATION:Wine&amp;Cafe Jokiranta Melakuja 3 17200 Vääksy
SUMMARY:Volvo Amazon treffit Vääksy
DESCRIPTION:Volvo Amazon Treffit 10 vuotta lauantaina 7.9.2023 klo.12-16 Wi
 ne &amp; Cafe Jokiranta Osoite: Melakuja 3\,  17200 Vääksy Tervetuloa kai
 kki Volvo Amazon diggarit! Lisätietoja Timo Pessala 040 1701370Lisätied
 ot: www.facebook.com/amazontreffit Lue raportit aiemmilta treffeiltä: Volv
 o Amazon Treffit 2019 ja Volvo Amazon treffit 2020\nhttps://www.wheels.fi/e
 vents/volvo-amazon-treffit-2024/
URL:https://www.wheels.fi/events/volvo-amazon-treffit-2024/
END:VEVENT
END:VCALENDAR