BEGIN:VCALENDAR
VERSION:2.0
PRODID:-//eventon.com NONSGML v1.0//EN
CALSCALE:GREGORIAN
METHOD:PUBLISH
BEGIN:VEVENT
UID:69ecf917b505e
DTSTAMP:20260425T172543Z
DTSTART:20240501T180000Z
DTEND:20240501T210000Z
LOCATION:Mustalahden satama Paasikivenkatu 2\,  Tampere
SUMMARY:Harrasteajoneuvot Mustalahdessa Tampere
DESCRIPTION:Harrasteajoneuvot Mustalahdessa Tampereella Kesäkaudella kokoo
 ntuminen Mustalahden satama-alueella joka keskiviikko klo 18. Järjestäjä
 : Tampereen Seudun Mobilistit ry\nhttps://www.wheels.fi/events/mustalahti-t
 ampere-2024/
URL:https://www.wheels.fi/events/mustalahti-tampere-2024/
END:VEVENT
END:VCALENDAR