BEGIN:VCALENDAR
VERSION:2.0
PRODID:-//eventon.com NONSGML v1.0//EN
CALSCALE:GREGORIAN
METHOD:PUBLISH
BEGIN:VEVENT
UID:69ea38ecdf2f6
DTSTAMP:20260423T152116Z
DTSTART:20230722T110000Z
DTEND:20230722T150000Z
LOCATION:Mustialan kartano Mustialantie 105\,  31310 Mustiala
SUMMARY:Bella Italia 2023 Mustiala
DESCRIPTION:Bella Italia on tarkoitettu yhteiseksi kokoontumiseksi kaikille
  italialaismerkkisille ajoneuvoille riippumatta iästä\,  kunnosta\,  harv
 inaisuudesta tai arvosta. Vanhimmilla yksilöillä voi olla ikää useita v
 uosikymmeniä\,  uusimmilla joitakin päiviä tai viikkoja. Mustialan puist
 oon onkin vuosittain kokoontunut varsin näyttävä otos Suomessa olevia sa
 apasmaan menopelejä. Bella Italiaa voidaankin oikeutetusti kutsua italiala
 ismerkkien harrastajien kokoontumisen ohella italialaisen ajoneuvomuotoilun
 [..]\nhttps://www.wheels.fi/events/bella-italia-2023-mustiala/
URL:https://www.wheels.fi/events/bella-italia-2023-mustiala/
END:VEVENT
END:VCALENDAR