BEGIN:VCALENDAR
VERSION:2.0
PRODID:-//eventon.com NONSGML v1.0//EN
CALSCALE:GREGORIAN
METHOD:PUBLISH
BEGIN:VEVENT
UID:69e74d0607236
DTSTAMP:20260421T101014Z
DTSTART:20230926T170000Z
DTEND:20230926T190000Z
LOCATION:Naapurissa kahvila Lappersintie 48\,  02570 Siuntio
SUMMARY:Harrasteajoneuvot Naapurissa Siuntio
DESCRIPTION:Harrasteautoilijat &amp; motoristit – tiistaikokoontumiset to
 ukokuusta syyskuuhun klo 17-19.00 Naapurissa! Kokoontumisten tunnelma on re
 nto\,  puheensorina ja moottorin pärinä kuuluvat parhaimmillaan aurinkois
 essa kesäillassamme samanhenkisessä seurassa. Osallistu mukaan ja tutustu
  samanhenkiseen seuraan. Pieneen tai suurempaan nälkään tarjolla on vaih
 toehtoja burgereista leikkeleisiin ja täyttäviin salaatteihin. Kahvilan k
 atettu terassi on avoinna kokoontumispäivinä klo 20.00[..]\nhttps://www.w
 heels.fi/events/harrasteajoneuvot-naapurissa-siuntio/var/ri-18.l-L1
URL:https://www.wheels.fi/events/harrasteajoneuvot-naapurissa-siuntio/var/ri-18.l-L1
END:VEVENT
END:VCALENDAR