BEGIN:VCALENDAR
VERSION:2.0
PRODID:-//eventon.com NONSGML v1.0//EN
CALSCALE:GREGORIAN
METHOD:PUBLISH
BEGIN:VEVENT
UID:69ea45ce7eefb
DTSTAMP:20260423T161614Z
DTSTART:20230506T140000Z
DTEND:20230506T235900Z
LOCATION:Ravintola Bar'kki Elimäentie 54\,  46910 Kouvola
SUMMARY:Bar'kki Cruising Kouvola
DESCRIPTION:Ravintola Bar&#8217;kki ja Rock&#8217;N&#8217;Roll Car Club toi
 vottavat teidät tervetulleeksi viettämään päivää harrasteajoneuvojen
  ja mukavan yhdessä olon merkeissä. Tapahtumapaikka sekä cruisingin läh
 tö- ja päätepiste on Ravintola Bar&#8217;kki Elimäentien varressa Kouvo
 lan Anjalassa. Päivän aloittaa klo 14 esiintyvä Secrets. Kokki paistaa m
 akkaraa terassilla klo 13-16. Klo 16 tienoilla lähdetään kruisailemaan n
 oin 90 kilometrin[..]\nhttps://www.wheels.fi/events/barkki-cruising-kouvola
 -2023/
URL:https://www.wheels.fi/events/barkki-cruising-kouvola-2023/
END:VEVENT
END:VCALENDAR