BEGIN:VCALENDAR
VERSION:2.0
PRODID:-//eventon.com NONSGML v1.0//EN
CALSCALE:GREGORIAN
METHOD:PUBLISH
BEGIN:VEVENT
UID:69ecf18b8f952
DTSTAMP:20260425T165331Z
DTSTART:20230501T093000Z
DTEND:20230501T150000Z
LOCATION:
SUMMARY:Vappucruising Kajaani
DESCRIPTION:Kajaanin vappucruising Prisman yläparkkipaikalla 1.5.2023 Auto
 jen kokoontuminen klo 9.30-9.50 Autot yleisön nähtävillä klo 10.-12.50 
 Lähtö cruisinkiin klo 13.00 Kaikki harrasteajoneuvot ovat tervetulleita!\
 nhttps://www.wheels.fi/events/vappucruising-kajaani-2023/
URL:https://www.wheels.fi/events/vappucruising-kajaani-2023/
END:VEVENT
END:VCALENDAR