BEGIN:VCALENDAR
VERSION:2.0
PRODID:-//eventon.com NONSGML v1.0//EN
CALSCALE:GREGORIAN
METHOD:PUBLISH
BEGIN:VEVENT
UID:69e8a04aca339
DTSTAMP:20260422T101746Z
DTSTART:20230906T170000Z
DTEND:20230906T210000Z
LOCATION:
SUMMARY:Veteraaniautoseuran keskiviikkoajot Vaasa
DESCRIPTION:Seuran keskiviikkoajot alkavat 24.05 ja jatkuvat syyskuun loppu
 un. Jokaisena keskiviikkona järjestettävät ajot starttaavat pääsäänt
 öisesti Vaasan torilta\,  jonne kokoontuminen alkaa klo 17.00 ja lähtö t
 apahtuu klo 18.10. Lähtöpaikasta suuntaamme Vaasan lähialueilla oleviin 
 kohteisiin. Kohteet ovat noin 50 kilometrin etäisyydellä Vaasasta. Joka k
 uukauden yhtenä keskiviikkona lähtö tapahtuu Liisanlehdon Prisman parkki
 paikalta. Ajojen lähtöpaikka\, [..]\nhttps://www.wheels.fi/events/veteraa
 niautoseuran-keskiviikkoajot-vaasa-2023/var/ri-15.l-L1
URL:https://www.wheels.fi/events/veteraaniautoseuran-keskiviikkoajot-vaasa-2023/var/ri-15.l-L1
END:VEVENT
END:VCALENDAR