BEGIN:VCALENDAR
VERSION:2.0
PRODID:-//eventon.com NONSGML v1.0//EN
CALSCALE:GREGORIAN
METHOD:PUBLISH
BEGIN:VEVENT
UID:69ecf4da28bcb
DTSTAMP:20260425T170738Z
DTSTART:20230501T100000Z
DTEND:20230501T140000Z
LOCATION:Hyvinkään kauppatori Kauppatori 1\,  05800 Hyvinkää
SUMMARY:Hyvinkään Vappu Cruising
DESCRIPTION:Onhan Hyvinkään Vappu Cruising jo merkitty kalenteriin\,  sil
 lä kohta on aika kaivaa Mobiilit tallien kätköistä! Cruising toteutetaa
 n isompana kuin koskaan aiemmin\,  autoille noin 75 paikkaa ja mopoille/mot
 oristeille 200 paikkaa. Mopoille ja moottoripyörille järjestetään johde
 ttu paraati Hyvinkään Lentokentältä kauppatorille. Tänä vuonna kaikki
  harrastepelit liikenteeseen ja toriparkki täyteen! Vappu Cruisingin toteu
 ttaa Hyvinkään[..]\nhttps://www.wheels.fi/events/hyvinkaan-vappu-cruising
 -2023/
URL:https://www.wheels.fi/events/hyvinkaan-vappu-cruising-2023/
END:VEVENT
END:VCALENDAR