BEGIN:VCALENDAR
VERSION:2.0
PRODID:-//eventon.com NONSGML v1.0//EN
CALSCALE:GREGORIAN
METHOD:PUBLISH
BEGIN:VEVENT
UID:69ea6b3942c4b
DTSTAMP:20260423T185553Z
DTSTART:20230617T100000Z
DTEND:20230617T180000Z
LOCATION:
SUMMARY:Rauma Street Race
DESCRIPTION:Rauma Street Race tulee jälleen!! Perinteiset kiihdytyskisat a
 jetaan jälleen viikkoa ennen juhannusta\,  LAUANTAINA 17.6.2023 klo 10 alk
 aen Isometsäntiellä! Laita päivämäärä jo ylös kalenteriin! Kesäkuu
 ssa painetaan jälleen PEDAALI LATTIAAN!!\nhttps://www.wheels.fi/events/rau
 ma-street-race-2023/
URL:https://www.wheels.fi/events/rauma-street-race-2023/
END:VEVENT
END:VCALENDAR