BEGIN:VCALENDAR
VERSION:2.0
PRODID:-//eventon.com NONSGML v1.0//EN
CALSCALE:GREGORIAN
METHOD:PUBLISH
BEGIN:VEVENT
UID:69e8a35ef3d33
DTSTAMP:20260422T103054Z
DTSTART:20230612T170000Z
DTEND:20230612T200000Z
LOCATION:Ahveniston moottorirata Poltinahontie 47\,  13130 Hämeenlinna
SUMMARY:Ajoneuvoharrastajat Ahvenistolla
DESCRIPTION:Ahveniston moottoriradan varikkoalueella jo perinteeksi muodost
 uneet maanantain harrasteajoneuvotapaamiset syksyyn saakka klo 17-20. Vapaa
 muotoista seurustelua ja kahvittelua. Kaikki harrastepelit tervetulleita re
 ngasmäärään ja ikään katsomatta! Kaikki &#8221;koulukunnat&#8221; muk
 avasti sekaisin ja rento fiilis Myös kävellen\,  pyörällä\,  tai &#822
 1;tavis&#8221;autolla saa tulla paikalle\,  parkki tässä tapauksessa rada
 n alituksen jälkeen vasemmalla. Radan kahvio auki. Tervetuloa! Järjestäj
 ä:[..]\nhttps://www.wheels.fi/events/ajoneuvoharrastajat-ahvenistolla-2023
 /var/ri-6.l-L1
URL:https://www.wheels.fi/events/ajoneuvoharrastajat-ahvenistolla-2023/var/ri-6.l-L1
END:VEVENT
END:VCALENDAR