BEGIN:VCALENDAR
VERSION:2.0
PRODID:-//eventon.com NONSGML v1.0//EN
CALSCALE:GREGORIAN
METHOD:PUBLISH
BEGIN:VEVENT
UID:69e74d97510a6
DTSTAMP:20260421T101239Z
DTSTART:20220924T100000Z
DTEND:20220924T150000Z
LOCATION:Suomen moottoripyörämuseo Veistämönkatu 1\,  15140 Lahti
SUMMARY:Prätkä Rompetori Lahti
DESCRIPTION:Tervetuloa Prätkä Rompetorille Lauantaina 24.9. klo 10-15! Os
 timme ison läjän klassikkopyöriä\,  varaosia ja rekvisiittaa yms. Tiedu
 stelut Rikulta 0400712310. Tutustu pyöriin etukäteen: https://rikumotor.f
 i/vaihtopyorat/\nhttps://www.wheels.fi/events/pratka-rompetori-lahti-2022/
URL:https://www.wheels.fi/events/pratka-rompetori-lahti-2022/
END:VEVENT
END:VCALENDAR